BEGIN:VCALENDAR
VERSION:2.0
PRODID:-//CHI WIF OA - ECPv6.14.0//NONSGML v1.0//EN
CALSCALE:GREGORIAN
METHOD:PUBLISH
X-WR-CALNAME:CHI WIF OA
X-ORIGINAL-URL:https://www.chiwifoa.org
X-WR-CALDESC:Events for CHI WIF OA
REFRESH-INTERVAL;VALUE=DURATION:PT1H
X-Robots-Tag:noindex
X-PUBLISHED-TTL:PT1H
BEGIN:VTIMEZONE
TZID:America/Chicago
BEGIN:DAYLIGHT
TZOFFSETFROM:-0600
TZOFFSETTO:-0500
TZNAME:CDT
DTSTART:20260308T080000
END:DAYLIGHT
BEGIN:STANDARD
TZOFFSETFROM:-0500
TZOFFSETTO:-0600
TZNAME:CST
DTSTART:20261101T070000
END:STANDARD
END:VTIMEZONE
BEGIN:VEVENT
DTSTART;TZID=America/Chicago:20260426T140000
DTEND;TZID=America/Chicago:20260426T163000
DTSTAMP:20260424T072238
CREATED:20260418T155133Z
LAST-MODIFIED:20260418T155133Z
UID:3386-1777212000-1777221000@www.chiwifoa.org
SUMMARY:ABSTINENCE WORKSHOP
DESCRIPTION:ABSTINENCE WORKSHOP\nWhat is abstinence in Overeaters Anonymous?\nHow do you build & maintain strong abstinence? \nSpeaker Panel – Q&A – Fellowship\nApril 26\, 2026\n3 pm ET /2 pm CT /1 pm MT/12 pm PT\nRegister Here \n 
URL:https://www.chiwifoa.org/event/abstinence-workshop/
END:VEVENT
END:VCALENDAR